BEGIN:VCALENDAR
VERSION:2.0
PRODID:-//City of Maumee - ECPv6.15.20//NONSGML v1.0//EN
CALSCALE:GREGORIAN
METHOD:PUBLISH
X-ORIGINAL-URL:https://maumee.org
X-WR-CALDESC:Events for City of Maumee
REFRESH-INTERVAL;VALUE=DURATION:PT1H
X-Robots-Tag:noindex
X-PUBLISHED-TTL:PT1H
BEGIN:VTIMEZONE
TZID:America/Detroit
BEGIN:DAYLIGHT
TZOFFSETFROM:-0500
TZOFFSETTO:-0400
TZNAME:EDT
DTSTART:20240310T070000
END:DAYLIGHT
BEGIN:STANDARD
TZOFFSETFROM:-0400
TZOFFSETTO:-0500
TZNAME:EST
DTSTART:20241103T060000
END:STANDARD
BEGIN:DAYLIGHT
TZOFFSETFROM:-0500
TZOFFSETTO:-0400
TZNAME:EDT
DTSTART:20250309T070000
END:DAYLIGHT
BEGIN:STANDARD
TZOFFSETFROM:-0400
TZOFFSETTO:-0500
TZNAME:EST
DTSTART:20251102T060000
END:STANDARD
BEGIN:DAYLIGHT
TZOFFSETFROM:-0500
TZOFFSETTO:-0400
TZNAME:EDT
DTSTART:20260308T070000
END:DAYLIGHT
BEGIN:STANDARD
TZOFFSETFROM:-0400
TZOFFSETTO:-0500
TZNAME:EST
DTSTART:20261101T060000
END:STANDARD
END:VTIMEZONE
BEGIN:VEVENT
DTSTART;TZID=America/Detroit:20251022T160000
DTEND;TZID=America/Detroit:20251022T170000
DTSTAMP:20260425T125020
CREATED:20251016T005123Z
LAST-MODIFIED:20251016T005123Z
UID:20677-1761148800-1761152400@maumee.org
SUMMARY:Play Set at Ford Field Ribbon Cutting 
DESCRIPTION:The City of Maumee\, in partnership with the Maumee Chamber of Commerce\, invites the community to a ribbon-cutting ceremony celebrating the new playset at Robert Hoag Ford Field. The event will take place on Wednesday\, October 22\, at 4 PM at Ford Field\, located on the corner of Ford Street and the Anthony Wayne Trail.  \nThe new Nature Play Treehouse features exciting elements for children of all ages\, including two enclosed spiral tube slides\, a rock-climbing wall\, and a crawl-through log tunnel. In addition\, a rubber surface material provides a more durable and long-lasting option to better serve children and adults with all abilities.  \nThe new play structure has been in the works since early 2024. In preparation for the playset\, city crews addressed flooding issues by installing a new storm sewer. They also graded the site and installed concrete curbs and a six-foot-wide walkway connecting the backfield to the Ford Street restrooms. The City received a $91\,544 NatureWorks grant to offset the expenses.  \nThe Nature Play Treehouse is among the many upgrades to the baseball field. In addition to the play structure\, the installation of a new basketball court with two adjustable hoops has been installed. At a size slightly larger than the typical half-court\, the basketball court allows greater access for green space and the new play structure. New dugouts have also been installed in the backfield\, and a second storage building will be constructed to accommodate more equipment and increased activity at the ball diamonds.  \nWHAT: Ribbon Cutting at the new Nature Play Treehouse play structure  \nWHEN: Wednesday\, October 22\, 2025  \nTIME: 4:00 p.m.  \nLOCATION: Robert Hoag Ford Field\, 509 Ford Street  \nCONTACT: Nancy Gagnet\, Maumee Public Information Officer: 419.360.8466 ngagnet@maumee.org 
URL:https://maumee.org/event/play-set-at-ford-field-ribbon-cutting/
LOCATION:Robert Hoag Ford Field\, 509 Ford Street\, 509 Ford Street \, Maumee\, Ohio\, 43537
CATEGORIES:Community Event
ATTACH;FMTTYPE=image/heic:https://maumee.org/wp-content/uploads/2025/10/Ford-Field.heic
END:VEVENT
END:VCALENDAR