BEGIN:VCALENDAR
VERSION:2.0
PRODID:-//City of Maumee - ECPv6.15.20//NONSGML v1.0//EN
CALSCALE:GREGORIAN
METHOD:PUBLISH
X-WR-CALNAME:City of Maumee
X-ORIGINAL-URL:https://maumee.org
X-WR-CALDESC:Events for City of Maumee
REFRESH-INTERVAL;VALUE=DURATION:PT1H
X-Robots-Tag:noindex
X-PUBLISHED-TTL:PT1H
BEGIN:VTIMEZONE
TZID:America/Detroit
BEGIN:DAYLIGHT
TZOFFSETFROM:-0500
TZOFFSETTO:-0400
TZNAME:EDT
DTSTART:20230312T070000
END:DAYLIGHT
BEGIN:STANDARD
TZOFFSETFROM:-0400
TZOFFSETTO:-0500
TZNAME:EST
DTSTART:20231105T060000
END:STANDARD
BEGIN:DAYLIGHT
TZOFFSETFROM:-0500
TZOFFSETTO:-0400
TZNAME:EDT
DTSTART:20240310T070000
END:DAYLIGHT
BEGIN:STANDARD
TZOFFSETFROM:-0400
TZOFFSETTO:-0500
TZNAME:EST
DTSTART:20241103T060000
END:STANDARD
BEGIN:DAYLIGHT
TZOFFSETFROM:-0500
TZOFFSETTO:-0400
TZNAME:EDT
DTSTART:20250309T070000
END:DAYLIGHT
BEGIN:STANDARD
TZOFFSETFROM:-0400
TZOFFSETTO:-0500
TZNAME:EST
DTSTART:20251102T060000
END:STANDARD
END:VTIMEZONE
BEGIN:VEVENT
DTSTART;TZID=America/Detroit:20241201T164500
DTEND;TZID=America/Detroit:20241201T180000
DTSTAMP:20260424T123739
CREATED:20241122T231019Z
LAST-MODIFIED:20241122T231353Z
UID:18627-1733071500-1733076000@maumee.org
SUMMARY:The Elf Fun Run 1K Race
DESCRIPTION:Elf Fun Run 1K Race is for runners ages 12 and under. \n\nStart Time: 4:45 p.m. (Before the Holiday Hustle)\nLocation: Maumee Indoor Theater is the start & finish line\nEntry Fee: $10\nPerks: prizes for the first 50 to cross the finish line & a tee shirt for those who pre-register while supplies last.\n\nThe Elf Fun Run 1K and Holiday Hustle 5K & Fun Walk are sponsored by the Maumee Senior Center in conjunction with Second Sole:  \nRace Day Registration takes place from 3 to 5 p.m. or register online: https://toledoarea.enmotive.com/events/view/2024-holiday-hustle
URL:https://maumee.org/event/the-elf-fun-run-1k-race/
LOCATION:Maumee Indoor Theater\, 601 Conant St\, Maumee\, OH\, 43537\, United States
CATEGORIES:Community Event
ATTACH;FMTTYPE=image/jpeg:https://maumee.org/wp-content/uploads/2024/11/2024-Elf-Run-Registration-Form_0001.jpg
END:VEVENT
BEGIN:VEVENT
DTSTART;TZID=America/Detroit:20241201T171500
DTEND;TZID=America/Detroit:20241201T190000
DTSTAMP:20260424T123740
CREATED:20241122T231247Z
LAST-MODIFIED:20241122T231247Z
UID:18629-1733073300-1733079600@maumee.org
SUMMARY:The Holiday Hustle 5K Race & One-Mile Fun Walk
DESCRIPTION:The Holiday Hustle 5K Race & One-Mile Fun Walk  \n\nStart Time: 5:15 p.m.\nLocation: Maumee Indoor Theater is the start & finish line\nEntry Fee: $25 pre-registration or $30 day of race\nPerks: prizes for winners in age brackets plus special prizes for best illuminated and most creative holiday costumes.\n\n\nThe Elf Fun Run 1K and Holiday Hustle 5K & Fun Walk are sponsored by the Maumee Senior Center in conjunction with Second Sole:  \nRace Day Registration takes place from 3 to 5 p.m. or register online: https://toledoarea.enmotive.com/events/view/2024-holiday-hustle
URL:https://maumee.org/event/the-holiday-hustle-5k-race-one-mile-fun-walk/
CATEGORIES:Community Event
ATTACH;FMTTYPE=image/jpeg:https://maumee.org/wp-content/uploads/2024/11/2024-FINAL-Paper-Holiday-Hustle-5K-Entry-Form_0001.jpg
END:VEVENT
BEGIN:VEVENT
DTSTART;TZID=America/Detroit:20241201T181500
DTEND;TZID=America/Detroit:20241201T210000
DTSTAMP:20260424T123740
CREATED:20241122T231620Z
LAST-MODIFIED:20241122T231819Z
UID:18631-1733076900-1733086800@maumee.org
SUMMARY:Holiday Light Parade
DESCRIPTION:Holiday Light Parade sponsored by the Maumee Uptown Business Association\n\nAfter the race\, the holiday magic continues with the annual Holiday Light Parade! Watch as beautifully decorated floats\, cars\, and marching groups light up the streets\, spreading holiday joy throughout the city. This beloved tradition is the perfect way to enjoy the magic of the season with family and friends:\n\n\nTime: Approximately 6:15 p.m. or after the Holiday Hustle is finished.\nLocation: The Parade steps off at the Maumee Indoor Theater and travels south to West Wayne to Ford Street.\nSpecial Highlights: Expect appearances from local performers\, Santa Claus\, and Grand Marshalls Maumee Mayor Jim MacDonald along with Kid Mayors Sadie Mallin of St. Joseph Catholic School\, Natalie Lewis of Fairfield Elementary\, and Calihan Byers of Fort Miami Elementary.\n\nStreet Closures – the following streets will close at 4:00 p.m.: \n\nConant Street\nWayne Street\nWilliam Street\nFord Street from U.S.24 to Clinic Drive.\nBarricades at US24 and Kingsbury will be in place.  No traffic will be allowed through Kingsbury from US24 to W. William until after the Parade is off of W. William.\n\nParking will be restricted from 3 to 8 p.m. on the following streets: \n\n200-500 Block of Conant Street\nWilliam Street\nWayne Street\n200-600 Block of Ford Street\nSmall parking lot north of court\n100 Block of W. Dudley angled parking next to Cigar Affair and Key Bank\n\nThe City of Maumee is dedicated to fostering community engagement and creating events that bring people together. Our mission is to provide opportunities for people of all ages to connect\, celebrate\, and enjoy the many exciting things our city offers. For more details about the Holiday Light Parade\, please visit https://www.maumeeuptown.com/holiday-light-parade/
URL:https://maumee.org/event/holiday-light-parade/
LOCATION:Private: Conant Street\, 400 Conant Street\, Maumee\, Ohio\, 43537
CATEGORIES:Celebration,Community Event
ATTACH;FMTTYPE=image/jpeg:https://maumee.org/wp-content/uploads/2024/11/Parade-flyer-1-scaled.jpeg
END:VEVENT
END:VCALENDAR