BEGIN:VCALENDAR
VERSION:2.0
PRODID:-//City of Maumee - ECPv6.15.20//NONSGML v1.0//EN
CALSCALE:GREGORIAN
METHOD:PUBLISH
X-ORIGINAL-URL:https://maumee.org
X-WR-CALDESC:Events for City of Maumee
REFRESH-INTERVAL;VALUE=DURATION:PT1H
X-Robots-Tag:noindex
X-PUBLISHED-TTL:PT1H
BEGIN:VTIMEZONE
TZID:America/Detroit
BEGIN:DAYLIGHT
TZOFFSETFROM:-0500
TZOFFSETTO:-0400
TZNAME:EDT
DTSTART:20220313T070000
END:DAYLIGHT
BEGIN:STANDARD
TZOFFSETFROM:-0400
TZOFFSETTO:-0500
TZNAME:EST
DTSTART:20221106T060000
END:STANDARD
BEGIN:DAYLIGHT
TZOFFSETFROM:-0500
TZOFFSETTO:-0400
TZNAME:EDT
DTSTART:20230312T070000
END:DAYLIGHT
BEGIN:STANDARD
TZOFFSETFROM:-0400
TZOFFSETTO:-0500
TZNAME:EST
DTSTART:20231105T060000
END:STANDARD
BEGIN:DAYLIGHT
TZOFFSETFROM:-0500
TZOFFSETTO:-0400
TZNAME:EDT
DTSTART:20240310T070000
END:DAYLIGHT
BEGIN:STANDARD
TZOFFSETFROM:-0400
TZOFFSETTO:-0500
TZNAME:EST
DTSTART:20241103T060000
END:STANDARD
END:VTIMEZONE
BEGIN:VEVENT
DTSTART;VALUE=DATE:20231026
DTEND;VALUE=DATE:20231101
DTSTAMP:20260423T154941
CREATED:20231006T001716Z
LAST-MODIFIED:20231006T001716Z
UID:15065-1698278400-1698796799@maumee.org
SUMMARY:Maumee Community Pumpkin Display
DESCRIPTION:WHAT: Maumee Community Pumpkin Display\n\n\nWHEN: The Pumpkin Display will kick off along with the Community Costume Party on Thursday\, October 26th. (Display will continue through Halloween)\n\nWHERE: Attendees of the costume party are encouraged to bring their decorated pumpkins (carved or painted) to the Maumee Indoor Theater during the costume party and those pumpkins will be transported two blocks down to the site of the display. Anyone wishing to display a pumpkin not in attendance of the costume party can place their pumpkin along the curved wall at the city building at the corner of Conant and E Dudley.
URL:https://maumee.org/event/maumee-community-pumpkin-display/
LOCATION:400 Conant Street\, Maumee\, Ohio
CATEGORIES:Celebration,Community Event
ATTACH;FMTTYPE=image/png:https://maumee.org/wp-content/uploads/2023/10/COMMUNITY-PUMPKINS-2-9-x-6-in.png
END:VEVENT
END:VCALENDAR