BEGIN:VCALENDAR
VERSION:2.0
PRODID:-//City of Maumee - ECPv6.15.20//NONSGML v1.0//EN
CALSCALE:GREGORIAN
METHOD:PUBLISH
X-WR-CALNAME:City of Maumee
X-ORIGINAL-URL:https://maumee.org
X-WR-CALDESC:Events for City of Maumee
REFRESH-INTERVAL;VALUE=DURATION:PT1H
X-Robots-Tag:noindex
X-PUBLISHED-TTL:PT1H
BEGIN:VTIMEZONE
TZID:America/Detroit
BEGIN:DAYLIGHT
TZOFFSETFROM:-0500
TZOFFSETTO:-0400
TZNAME:EDT
DTSTART:20240310T070000
END:DAYLIGHT
BEGIN:STANDARD
TZOFFSETFROM:-0400
TZOFFSETTO:-0500
TZNAME:EST
DTSTART:20241103T060000
END:STANDARD
BEGIN:DAYLIGHT
TZOFFSETFROM:-0500
TZOFFSETTO:-0400
TZNAME:EDT
DTSTART:20250309T070000
END:DAYLIGHT
BEGIN:STANDARD
TZOFFSETFROM:-0400
TZOFFSETTO:-0500
TZNAME:EST
DTSTART:20251102T060000
END:STANDARD
BEGIN:DAYLIGHT
TZOFFSETFROM:-0500
TZOFFSETTO:-0400
TZNAME:EDT
DTSTART:20260308T070000
END:DAYLIGHT
BEGIN:STANDARD
TZOFFSETFROM:-0400
TZOFFSETTO:-0500
TZNAME:EST
DTSTART:20261101T060000
END:STANDARD
END:VTIMEZONE
BEGIN:VEVENT
DTSTART;TZID=America/Detroit:20251105T183000
DTEND;TZID=America/Detroit:20251105T210000
DTSTAMP:20260425T130458
CREATED:20251021T215613Z
LAST-MODIFIED:20251021T215613Z
UID:20764-1762367400-1762376400@maumee.org
SUMMARY:Free Movie Presentation of the Documentary Organic Rising
DESCRIPTION:The Maumee Environmental and Tree Advisory Commission will present a free \nmovie presentation of the documentary Organic Rising at the Maumee \nIndoor Theater on Wednesday\, November 5. \n\nOrganic Rising pulls back the curtain on America’s food system\, exposing what’s at stake in the way our food is grown — conventional versus organic — and the impact on our health and the environment. The film demystifies the USDA organic label and modern farming practices\, empowering consumers to make informed\, confident choices. More than informative\, Organic Rising inspires viewers to rethink their role in building a food system that’s both ethical and sustainable. \n\nIn addition to the film\, members of the Maumee Environmental & Tree Advisory Commission will be on hand with information about trees\, invasive species\, and more. \n\n\nWHAT:                   Maumee Environmental & Tree Advisory presents free screening of Organic Rising \nWHEN:                   Wednesday\, November 5\, 2025 \nTIME:                       Doors open at 6:00 p.m. movie begins at 6:30 \nLOCATION:         Maumee Indoor Theater\, 601 Conant St. \nCONTACT:           Nancy Gagnet\, Maumee Public Information Officer: \nngagnet@maumee.org | 419.360.8466
URL:https://maumee.org/event/free-movie-presentation-of-the-documentary-organic-rising/
LOCATION:Maumee Indoor Theater\, 601 Conant St\, Maumee\, OH\, 43537\, United States
CATEGORIES:Community Event
ATTACH;FMTTYPE=image/png:https://maumee.org/wp-content/uploads/2025/10/Flyer-OrganicRisingMovieEvent.png
END:VEVENT
END:VCALENDAR