BEGIN:VCALENDAR
VERSION:2.0
PRODID:-//City of Maumee - ECPv6.15.20//NONSGML v1.0//EN
CALSCALE:GREGORIAN
METHOD:PUBLISH
X-ORIGINAL-URL:https://maumee.org
X-WR-CALDESC:Events for City of Maumee
REFRESH-INTERVAL;VALUE=DURATION:PT1H
X-Robots-Tag:noindex
X-PUBLISHED-TTL:PT1H
BEGIN:VTIMEZONE
TZID:America/Detroit
BEGIN:DAYLIGHT
TZOFFSETFROM:-0500
TZOFFSETTO:-0400
TZNAME:EDT
DTSTART:20240310T070000
END:DAYLIGHT
BEGIN:STANDARD
TZOFFSETFROM:-0400
TZOFFSETTO:-0500
TZNAME:EST
DTSTART:20241103T060000
END:STANDARD
BEGIN:DAYLIGHT
TZOFFSETFROM:-0500
TZOFFSETTO:-0400
TZNAME:EDT
DTSTART:20250309T070000
END:DAYLIGHT
BEGIN:STANDARD
TZOFFSETFROM:-0400
TZOFFSETTO:-0500
TZNAME:EST
DTSTART:20251102T060000
END:STANDARD
BEGIN:DAYLIGHT
TZOFFSETFROM:-0500
TZOFFSETTO:-0400
TZNAME:EDT
DTSTART:20260308T070000
END:DAYLIGHT
BEGIN:STANDARD
TZOFFSETFROM:-0400
TZOFFSETTO:-0500
TZNAME:EST
DTSTART:20261101T060000
END:STANDARD
END:VTIMEZONE
BEGIN:VEVENT
DTSTART;TZID=America/Detroit:20251004T100000
DTEND;TZID=America/Detroit:20251004T160000
DTSTAMP:20260425T113335
CREATED:20251002T174202Z
LAST-MODIFIED:20251002T174202Z
UID:20542-1759572000-1759593600@maumee.org
SUMMARY:Wolcott Museum Autumn Market
DESCRIPTION:Celebrate the season at the Autumn Market\, taking place Saturday\, October 4\, from 10 AM to 4 PM atthe Wolcott Museum Complex. This free\, family-friendly event offers something for everyone. \nMore than 50 local vendors will showcase unique\, handcrafted goods perfect for early holiday shopping. Visitors can also enjoy craft beer and hard cider\, along with live performances from three talented bands\, including Bliss\, an all-women folk group. \nAdding to the experience\, the market will feature historical re-enactments\, such as blacksmith demonstrations and an old-fashioned cider press in action. Guests are also invited to step inside the historic museum buildings\, which will be open throughout the day. \nWith shopping\, music\, food\, and history all in one place\, the Autumn Market is the perfect way to welcome fallin Maumee! \nMEDIA OPPORTUNITIES: Katie Pettee\, Event Organizer \n\nPhone: (419) 206-2528\nEmail: ktpettee@gmail.com\n\nThe Wolcott Museum is located at 1035 W. River Road.
URL:https://maumee.org/event/wolcott-museum-autumn-market/
LOCATION:The Wolcott Heritage Campus\, 1035 River Rd\, Maumee\, OH\, 43537\, United States
CATEGORIES:Community Event
ATTACH;FMTTYPE=image/jpeg:https://maumee.org/wp-content/uploads/2025/10/Autumn-Market-2025-Finished-Graphic-scaled-e1759426881274.jpg
END:VEVENT
BEGIN:VEVENT
DTSTART;TZID=America/Detroit:20251022T160000
DTEND;TZID=America/Detroit:20251022T170000
DTSTAMP:20260425T113335
CREATED:20251016T005123Z
LAST-MODIFIED:20251016T005123Z
UID:20677-1761148800-1761152400@maumee.org
SUMMARY:Play Set at Ford Field Ribbon Cutting 
DESCRIPTION:The City of Maumee\, in partnership with the Maumee Chamber of Commerce\, invites the community to a ribbon-cutting ceremony celebrating the new playset at Robert Hoag Ford Field. The event will take place on Wednesday\, October 22\, at 4 PM at Ford Field\, located on the corner of Ford Street and the Anthony Wayne Trail.  \nThe new Nature Play Treehouse features exciting elements for children of all ages\, including two enclosed spiral tube slides\, a rock-climbing wall\, and a crawl-through log tunnel. In addition\, a rubber surface material provides a more durable and long-lasting option to better serve children and adults with all abilities.  \nThe new play structure has been in the works since early 2024. In preparation for the playset\, city crews addressed flooding issues by installing a new storm sewer. They also graded the site and installed concrete curbs and a six-foot-wide walkway connecting the backfield to the Ford Street restrooms. The City received a $91\,544 NatureWorks grant to offset the expenses.  \nThe Nature Play Treehouse is among the many upgrades to the baseball field. In addition to the play structure\, the installation of a new basketball court with two adjustable hoops has been installed. At a size slightly larger than the typical half-court\, the basketball court allows greater access for green space and the new play structure. New dugouts have also been installed in the backfield\, and a second storage building will be constructed to accommodate more equipment and increased activity at the ball diamonds.  \nWHAT: Ribbon Cutting at the new Nature Play Treehouse play structure  \nWHEN: Wednesday\, October 22\, 2025  \nTIME: 4:00 p.m.  \nLOCATION: Robert Hoag Ford Field\, 509 Ford Street  \nCONTACT: Nancy Gagnet\, Maumee Public Information Officer: 419.360.8466 ngagnet@maumee.org 
URL:https://maumee.org/event/play-set-at-ford-field-ribbon-cutting/
LOCATION:Robert Hoag Ford Field\, 509 Ford Street\, 509 Ford Street \, Maumee\, Ohio\, 43537
CATEGORIES:Community Event
ATTACH;FMTTYPE=image/heic:https://maumee.org/wp-content/uploads/2025/10/Ford-Field.heic
END:VEVENT
BEGIN:VEVENT
DTSTART;TZID=America/Detroit:20251027T173000
DTEND;TZID=America/Detroit:20251027T193000
DTSTAMP:20260425T113335
CREATED:20251002T180440Z
LAST-MODIFIED:20251002T180440Z
UID:20555-1761586200-1761593400@maumee.org
SUMMARY:Rain Barrel Workshop
DESCRIPTION:Interested in conserving water and reducing stormwater runoff? The City of Maumee Environmental and Tree Advisory Committee invites residents to a Rain Barrel Workshop on Monday\, October 27\,at 5:30 PM at the Public Service Building\, 210 Illinois Ave. \nLed by staff from the Lucas County Soil & Water Conservation District\, the hands-on workshop will provide everything you need to assemble your own rain barrel. All tools and supplies are included\, andparticipants will take home their completed barrel at the end of the evening. \nSpace is limited to 10 participants. The cost is $40 per person\, which covers all materials. To register\, scan the QR code on the event flyer or click HERE \nDon’t miss this chance to create a sustainable solution for your home and learn more about protectingour local waterways. \nWHAT:                       Rain Barrel Workshop \nWHEN:                       Monday\, October 27\, 2025 \nTIME:                          5:30 PM \nLOCATION:               Public Service Building\, 210 Illinois Ave \nCONTACT:                Nancy Gagnet\, Maumee Public Information Officer: \nngagnet@maumee.org | 419.360.8466
URL:https://maumee.org/event/rain-barrel-workshop/
LOCATION:Public Service Building\, 210 Illinois Ave\, 210 Illinois Avenue\, Maumee\, OH\, 43537\, United States
CATEGORIES:Community Event
ATTACH;FMTTYPE=image/png:https://maumee.org/wp-content/uploads/2025/10/RB-Flyer-4-e1759427939190.png
END:VEVENT
END:VCALENDAR