BEGIN:VCALENDAR
VERSION:2.0
PRODID:-//City of Maumee - ECPv6.15.20//NONSGML v1.0//EN
CALSCALE:GREGORIAN
METHOD:PUBLISH
X-ORIGINAL-URL:https://maumee.org
X-WR-CALDESC:Events for City of Maumee
REFRESH-INTERVAL;VALUE=DURATION:PT1H
X-Robots-Tag:noindex
X-PUBLISHED-TTL:PT1H
BEGIN:VTIMEZONE
TZID:America/Detroit
BEGIN:DAYLIGHT
TZOFFSETFROM:-0500
TZOFFSETTO:-0400
TZNAME:EDT
DTSTART:20240310T070000
END:DAYLIGHT
BEGIN:STANDARD
TZOFFSETFROM:-0400
TZOFFSETTO:-0500
TZNAME:EST
DTSTART:20241103T060000
END:STANDARD
BEGIN:DAYLIGHT
TZOFFSETFROM:-0500
TZOFFSETTO:-0400
TZNAME:EDT
DTSTART:20250309T070000
END:DAYLIGHT
BEGIN:STANDARD
TZOFFSETFROM:-0400
TZOFFSETTO:-0500
TZNAME:EST
DTSTART:20251102T060000
END:STANDARD
BEGIN:DAYLIGHT
TZOFFSETFROM:-0500
TZOFFSETTO:-0400
TZNAME:EDT
DTSTART:20260308T070000
END:DAYLIGHT
BEGIN:STANDARD
TZOFFSETFROM:-0400
TZOFFSETTO:-0500
TZNAME:EST
DTSTART:20261101T060000
END:STANDARD
END:VTIMEZONE
BEGIN:VEVENT
DTSTART;TZID=America/Detroit:20250703T140000
DTEND;TZID=America/Detroit:20250703T235900
DTSTAMP:20260425T111937
CREATED:20250519T184618Z
LAST-MODIFIED:20250703T135402Z
UID:19611-1751551200-1751587140@maumee.org
SUMMARY:2025 Uptown Music Fest
DESCRIPTION:
URL:https://maumee.org/event/2025-uptown-music-fest/
LOCATION:400 Conant Street\, Maumee\, Ohio
CATEGORIES:Celebration,Community Event
ATTACH;FMTTYPE=image/png:https://maumee.org/wp-content/uploads/2025/06/MUSIC-FEST-LINE-UP-JULY-3-2025-2-3.png
END:VEVENT
BEGIN:VEVENT
DTSTART;TZID=America/Detroit:20250703T180000
DTEND;TZID=America/Detroit:20250703T220000
DTSTAMP:20260425T111937
CREATED:20250519T184909Z
LAST-MODIFIED:20250519T184909Z
UID:19613-1751565600-1751580000@maumee.org
SUMMARY:MUBA July 3rd Family Picnic
DESCRIPTION:Wednesday\, July 3 | 6–10 PM\nUptown Maumee \nKick off your Independence Day celebrations at the July 3rd Family Picnic—an evening packed with fun\, food\, and fireworks for all ages! \n  \nFamily Fun Galore! \n\n12 Classic Carnival Games\nGlitter Tattoos & Face Painting\nGiant Inflatables for All Ages\n\n  \n15 Delicious Food Trucks\nFrom sweet treats to savory eats\, there’s something for every craving! \n  \nFireworks at Dusk!\nBring your lawn chairs and blankets and settle in for a spectacular fireworks display lighting up the Uptown sky. \n  \nDon’t miss this family-friendly celebration in the heart of Uptown Maumee!
URL:https://maumee.org/event/muba-july-3rd-family-picnic/
LOCATION:400 Conant Street\, Maumee\, Ohio
CATEGORIES:Celebration,Community Event
ATTACH;FMTTYPE=image/png:https://maumee.org/wp-content/uploads/2025/05/MUBA-Family-Picnic-JULY-3-2025.png
END:VEVENT
END:VCALENDAR