BEGIN:VCALENDAR
VERSION:2.0
PRODID:-//City of Maumee - ECPv6.15.20//NONSGML v1.0//EN
CALSCALE:GREGORIAN
METHOD:PUBLISH
X-WR-CALNAME:City of Maumee
X-ORIGINAL-URL:https://maumee.org
X-WR-CALDESC:Events for City of Maumee
REFRESH-INTERVAL;VALUE=DURATION:PT1H
X-Robots-Tag:noindex
X-PUBLISHED-TTL:PT1H
BEGIN:VTIMEZONE
TZID:America/Detroit
BEGIN:DAYLIGHT
TZOFFSETFROM:-0500
TZOFFSETTO:-0400
TZNAME:EDT
DTSTART:20240310T070000
END:DAYLIGHT
BEGIN:STANDARD
TZOFFSETFROM:-0400
TZOFFSETTO:-0500
TZNAME:EST
DTSTART:20241103T060000
END:STANDARD
BEGIN:DAYLIGHT
TZOFFSETFROM:-0500
TZOFFSETTO:-0400
TZNAME:EDT
DTSTART:20250309T070000
END:DAYLIGHT
BEGIN:STANDARD
TZOFFSETFROM:-0400
TZOFFSETTO:-0500
TZNAME:EST
DTSTART:20251102T060000
END:STANDARD
BEGIN:DAYLIGHT
TZOFFSETFROM:-0500
TZOFFSETTO:-0400
TZNAME:EDT
DTSTART:20260308T070000
END:DAYLIGHT
BEGIN:STANDARD
TZOFFSETFROM:-0400
TZOFFSETTO:-0500
TZNAME:EST
DTSTART:20261101T060000
END:STANDARD
END:VTIMEZONE
BEGIN:VEVENT
DTSTART;TZID=America/Detroit:20250324T180000
DTEND;TZID=America/Detroit:20250324T193000
DTSTAMP:20260424T164839
CREATED:20250220T231833Z
LAST-MODIFIED:20250317T005100Z
UID:19092-1742839200-1742844600@maumee.org
SUMMARY:Community Discussion
DESCRIPTION:Due to feedback from the March 11 Community Discussion\, we are moving future discussions to a larger venue with better acoustics. As a result\, some dates have changed slightly. \nPlease see the new dates & locations: \nMonday\, March 24th – Maumee Branch Library \nWednesday\, April 16 –  Maumee Indoor Theater Basement (elevator is available) \nTuesday\, May 6th  – Maumee Branch Library \n\nTime: 6-7:30 p.m.  Individuals may come anytime during the session to ask questions. \nFormat: The format will remain primarily the same: Community members will have the chance to meet directly with city officials involved in the sewer remediation project and other key city initiatives. \nThese are not official council meetings\, and no official council action will take place during the discussions. The events are free. \nFor questions\, please contact: Nancy Gagnet\, Maumee PIO: 410.360.8466 ngagnet@maumee.org
URL:https://maumee.org/event/community-discussion/2025-03-24/
LOCATION:Maumee Branch Library\, 501 River Rd\, Maumee\, Ohio\, 43537\, United States
CATEGORIES:Community Event
ATTACH;FMTTYPE=image/png:https://maumee.org/wp-content/uploads/2025/03/UPDATED-Flyer.png
END:VEVENT
END:VCALENDAR